BEGIN:VCALENDAR
VERSION:2.0
PRODID:-//Haus Wunderbar - ECPv6.15.17//NONSGML v1.0//EN
CALSCALE:GREGORIAN
METHOD:PUBLISH
X-WR-CALNAME:Haus Wunderbar
X-ORIGINAL-URL:https://hauswunderbar.de
X-WR-CALDESC:Veranstaltungen für Haus Wunderbar
REFRESH-INTERVAL;VALUE=DURATION:PT1H
X-Robots-Tag:noindex
X-PUBLISHED-TTL:PT1H
BEGIN:VTIMEZONE
TZID:Europe/Berlin
BEGIN:DAYLIGHT
TZOFFSETFROM:+0100
TZOFFSETTO:+0200
TZNAME:CEST
DTSTART:20250330T010000
END:DAYLIGHT
BEGIN:STANDARD
TZOFFSETFROM:+0200
TZOFFSETTO:+0100
TZNAME:CET
DTSTART:20251026T010000
END:STANDARD
BEGIN:DAYLIGHT
TZOFFSETFROM:+0100
TZOFFSETTO:+0200
TZNAME:CEST
DTSTART:20260329T010000
END:DAYLIGHT
BEGIN:STANDARD
TZOFFSETFROM:+0200
TZOFFSETTO:+0100
TZNAME:CET
DTSTART:20261025T010000
END:STANDARD
BEGIN:DAYLIGHT
TZOFFSETFROM:+0100
TZOFFSETTO:+0200
TZNAME:CEST
DTSTART:20270328T010000
END:DAYLIGHT
BEGIN:STANDARD
TZOFFSETFROM:+0200
TZOFFSETTO:+0100
TZNAME:CET
DTSTART:20271031T010000
END:STANDARD
END:VTIMEZONE
BEGIN:VEVENT
DTSTART;TZID=Europe/Berlin:20260702T153000
DTEND;TZID=Europe/Berlin:20260702T170000
DTSTAMP:20260426T030202
CREATED:20251124T201134Z
LAST-MODIFIED:20251124T204746Z
UID:10010869-1783006200-1783011600@hauswunderbar.de
SUMMARY:Schöner Werden
DESCRIPTION:Plätze und Pflanzen pflegen in Werden.Jeden Donnerstag von 15:30 bis 17:00. Treffpunkt Haus Wunderbar\nAnsprechpartnerinnen: Martina Schmitz-Strehlau und Barbara Vlijt
URL:https://hauswunderbar.de/event/schoener-werden-2-2/2026-07-02/
LOCATION:Haus Wunderbar\, Rittergasse 25\, Essen\, NRW\, Essen
END:VEVENT
BEGIN:VEVENT
DTSTART;TZID=Europe/Berlin:20260709T153000
DTEND;TZID=Europe/Berlin:20260709T170000
DTSTAMP:20260426T030202
CREATED:20251124T201134Z
LAST-MODIFIED:20251124T204746Z
UID:10010870-1783611000-1783616400@hauswunderbar.de
SUMMARY:Schöner Werden
DESCRIPTION:Plätze und Pflanzen pflegen in Werden.Jeden Donnerstag von 15:30 bis 17:00. Treffpunkt Haus Wunderbar\nAnsprechpartnerinnen: Martina Schmitz-Strehlau und Barbara Vlijt
URL:https://hauswunderbar.de/event/schoener-werden-2-2/2026-07-09/
LOCATION:Haus Wunderbar\, Rittergasse 25\, Essen\, NRW\, Essen
END:VEVENT
BEGIN:VEVENT
DTSTART;TZID=Europe/Berlin:20260716T153000
DTEND;TZID=Europe/Berlin:20260716T170000
DTSTAMP:20260426T030202
CREATED:20251124T201134Z
LAST-MODIFIED:20251124T204746Z
UID:10010871-1784215800-1784221200@hauswunderbar.de
SUMMARY:Schöner Werden
DESCRIPTION:Plätze und Pflanzen pflegen in Werden.Jeden Donnerstag von 15:30 bis 17:00. Treffpunkt Haus Wunderbar\nAnsprechpartnerinnen: Martina Schmitz-Strehlau und Barbara Vlijt
URL:https://hauswunderbar.de/event/schoener-werden-2-2/2026-07-16/
LOCATION:Haus Wunderbar\, Rittergasse 25\, Essen\, NRW\, Essen
END:VEVENT
BEGIN:VEVENT
DTSTART;TZID=Europe/Berlin:20260723T153000
DTEND;TZID=Europe/Berlin:20260723T170000
DTSTAMP:20260426T030202
CREATED:20251124T201134Z
LAST-MODIFIED:20251124T204746Z
UID:10010872-1784820600-1784826000@hauswunderbar.de
SUMMARY:Schöner Werden
DESCRIPTION:Plätze und Pflanzen pflegen in Werden.Jeden Donnerstag von 15:30 bis 17:00. Treffpunkt Haus Wunderbar\nAnsprechpartnerinnen: Martina Schmitz-Strehlau und Barbara Vlijt
URL:https://hauswunderbar.de/event/schoener-werden-2-2/2026-07-23/
LOCATION:Haus Wunderbar\, Rittergasse 25\, Essen\, NRW\, Essen
END:VEVENT
BEGIN:VEVENT
DTSTART;TZID=Europe/Berlin:20260730T153000
DTEND;TZID=Europe/Berlin:20260730T170000
DTSTAMP:20260426T030202
CREATED:20251124T201134Z
LAST-MODIFIED:20251124T204746Z
UID:10010873-1785425400-1785430800@hauswunderbar.de
SUMMARY:Schöner Werden
DESCRIPTION:Plätze und Pflanzen pflegen in Werden.Jeden Donnerstag von 15:30 bis 17:00. Treffpunkt Haus Wunderbar\nAnsprechpartnerinnen: Martina Schmitz-Strehlau und Barbara Vlijt
URL:https://hauswunderbar.de/event/schoener-werden-2-2/2026-07-30/
LOCATION:Haus Wunderbar\, Rittergasse 25\, Essen\, NRW\, Essen
END:VEVENT
END:VCALENDAR