BEGIN:VCALENDAR
VERSION:2.0
PRODID:-//Haus Wunderbar - ECPv6.15.17//NONSGML v1.0//EN
CALSCALE:GREGORIAN
METHOD:PUBLISH
X-WR-CALNAME:Haus Wunderbar
X-ORIGINAL-URL:https://hauswunderbar.de
X-WR-CALDESC:Veranstaltungen für Haus Wunderbar
REFRESH-INTERVAL;VALUE=DURATION:PT1H
X-Robots-Tag:noindex
X-PUBLISHED-TTL:PT1H
BEGIN:VTIMEZONE
TZID:Europe/Berlin
BEGIN:DAYLIGHT
TZOFFSETFROM:+0100
TZOFFSETTO:+0200
TZNAME:CEST
DTSTART:20250330T010000
END:DAYLIGHT
BEGIN:STANDARD
TZOFFSETFROM:+0200
TZOFFSETTO:+0100
TZNAME:CET
DTSTART:20251026T010000
END:STANDARD
BEGIN:DAYLIGHT
TZOFFSETFROM:+0100
TZOFFSETTO:+0200
TZNAME:CEST
DTSTART:20260329T010000
END:DAYLIGHT
BEGIN:STANDARD
TZOFFSETFROM:+0200
TZOFFSETTO:+0100
TZNAME:CET
DTSTART:20261025T010000
END:STANDARD
BEGIN:DAYLIGHT
TZOFFSETFROM:+0100
TZOFFSETTO:+0200
TZNAME:CEST
DTSTART:20270328T010000
END:DAYLIGHT
BEGIN:STANDARD
TZOFFSETFROM:+0200
TZOFFSETTO:+0100
TZNAME:CET
DTSTART:20271031T010000
END:STANDARD
END:VTIMEZONE
BEGIN:VEVENT
DTSTART;TZID=Europe/Berlin:20260507T153000
DTEND;TZID=Europe/Berlin:20260507T170000
DTSTAMP:20260425T232027
CREATED:20251124T201134Z
LAST-MODIFIED:20251124T204746Z
UID:10010861-1778167800-1778173200@hauswunderbar.de
SUMMARY:Schöner Werden
DESCRIPTION:Plätze und Pflanzen pflegen in Werden.Jeden Donnerstag von 15:30 bis 17:00. Treffpunkt Haus Wunderbar\nAnsprechpartnerinnen: Martina Schmitz-Strehlau und Barbara Vlijt
URL:https://hauswunderbar.de/event/schoener-werden-2-2/2026-05-07/
LOCATION:Haus Wunderbar\, Rittergasse 25\, Essen\, NRW\, Essen
END:VEVENT
BEGIN:VEVENT
DTSTART;TZID=Europe/Berlin:20260514T153000
DTEND;TZID=Europe/Berlin:20260514T170000
DTSTAMP:20260425T232027
CREATED:20251124T201134Z
LAST-MODIFIED:20251124T204746Z
UID:10010862-1778772600-1778778000@hauswunderbar.de
SUMMARY:Schöner Werden
DESCRIPTION:Plätze und Pflanzen pflegen in Werden.Jeden Donnerstag von 15:30 bis 17:00. Treffpunkt Haus Wunderbar\nAnsprechpartnerinnen: Martina Schmitz-Strehlau und Barbara Vlijt
URL:https://hauswunderbar.de/event/schoener-werden-2-2/2026-05-14/
LOCATION:Haus Wunderbar\, Rittergasse 25\, Essen\, NRW\, Essen
END:VEVENT
BEGIN:VEVENT
DTSTART;TZID=Europe/Berlin:20260521T153000
DTEND;TZID=Europe/Berlin:20260521T170000
DTSTAMP:20260425T232027
CREATED:20251124T201134Z
LAST-MODIFIED:20251124T204746Z
UID:10010863-1779377400-1779382800@hauswunderbar.de
SUMMARY:Schöner Werden
DESCRIPTION:Plätze und Pflanzen pflegen in Werden.Jeden Donnerstag von 15:30 bis 17:00. Treffpunkt Haus Wunderbar\nAnsprechpartnerinnen: Martina Schmitz-Strehlau und Barbara Vlijt
URL:https://hauswunderbar.de/event/schoener-werden-2-2/2026-05-21/
LOCATION:Haus Wunderbar\, Rittergasse 25\, Essen\, NRW\, Essen
END:VEVENT
BEGIN:VEVENT
DTSTART;TZID=Europe/Berlin:20260528T153000
DTEND;TZID=Europe/Berlin:20260528T170000
DTSTAMP:20260425T232027
CREATED:20251124T201134Z
LAST-MODIFIED:20251124T204746Z
UID:10010864-1779982200-1779987600@hauswunderbar.de
SUMMARY:Schöner Werden
DESCRIPTION:Plätze und Pflanzen pflegen in Werden.Jeden Donnerstag von 15:30 bis 17:00. Treffpunkt Haus Wunderbar\nAnsprechpartnerinnen: Martina Schmitz-Strehlau und Barbara Vlijt
URL:https://hauswunderbar.de/event/schoener-werden-2-2/2026-05-28/
LOCATION:Haus Wunderbar\, Rittergasse 25\, Essen\, NRW\, Essen
END:VEVENT
END:VCALENDAR