BEGIN:VCALENDAR
VERSION:2.0
PRODID:-//Haus Wunderbar - ECPv6.15.17//NONSGML v1.0//EN
CALSCALE:GREGORIAN
METHOD:PUBLISH
X-WR-CALNAME:Haus Wunderbar
X-ORIGINAL-URL:https://hauswunderbar.de
X-WR-CALDESC:Veranstaltungen für Haus Wunderbar
REFRESH-INTERVAL;VALUE=DURATION:PT1H
X-Robots-Tag:noindex
X-PUBLISHED-TTL:PT1H
BEGIN:VTIMEZONE
TZID:Europe/Berlin
BEGIN:DAYLIGHT
TZOFFSETFROM:+0100
TZOFFSETTO:+0200
TZNAME:CEST
DTSTART:20250330T010000
END:DAYLIGHT
BEGIN:STANDARD
TZOFFSETFROM:+0200
TZOFFSETTO:+0100
TZNAME:CET
DTSTART:20251026T010000
END:STANDARD
BEGIN:DAYLIGHT
TZOFFSETFROM:+0100
TZOFFSETTO:+0200
TZNAME:CEST
DTSTART:20260329T010000
END:DAYLIGHT
BEGIN:STANDARD
TZOFFSETFROM:+0200
TZOFFSETTO:+0100
TZNAME:CET
DTSTART:20261025T010000
END:STANDARD
BEGIN:DAYLIGHT
TZOFFSETFROM:+0100
TZOFFSETTO:+0200
TZNAME:CEST
DTSTART:20270328T010000
END:DAYLIGHT
BEGIN:STANDARD
TZOFFSETFROM:+0200
TZOFFSETTO:+0100
TZNAME:CET
DTSTART:20271031T010000
END:STANDARD
END:VTIMEZONE
BEGIN:VEVENT
DTSTART;TZID=Europe/Berlin:20260326T153000
DTEND;TZID=Europe/Berlin:20260326T170000
DTSTAMP:20260425T232058
CREATED:20251124T201134Z
LAST-MODIFIED:20251124T204746Z
UID:10010855-1774539000-1774544400@hauswunderbar.de
SUMMARY:Schöner Werden
DESCRIPTION:Plätze und Pflanzen pflegen in Werden.Jeden Donnerstag von 15:30 bis 17:00. Treffpunkt Haus Wunderbar\nAnsprechpartnerinnen: Martina Schmitz-Strehlau und Barbara Vlijt
URL:https://hauswunderbar.de/event/schoener-werden-2-2/2026-03-26/
LOCATION:Haus Wunderbar\, Rittergasse 25\, Essen\, NRW\, Essen
END:VEVENT
END:VCALENDAR